BEGIN:VCALENDAR
VERSION:2.0
PRODID:-//wp-events-plugin.com//7.2.3.1//EN
TZID:America/Toronto
X-WR-TIMEZONE:America/Toronto
BEGIN:VEVENT
UID:118@tclg.org
DTSTART;TZID=America/Toronto:20181213T120000
DTEND;TZID=America/Toronto:20181213T140000
DTSTAMP:20181126T140329Z
URL:https://www.tclg.org/events/third-party-risk-management-trends-soc-1-s
 oc-2-reporting-the-what-the-why-the-when-and-the-how/
SUMMARY:TCLG - Third Party Risk Management Trends – SOC-1 & SOC-2 Reporti
 ng: The What\, The Why\, The When and The How
DESCRIPTION:For more detail please visit: https://www.tclg.org/events/third
 -party-risk-management-trends-soc-1-soc-2-reporting-the-what-the-why-the-w
 hen-and-the-how/
LOCATION:McCarthy Tétrault LLP\, 66 Wellington Street West\, Suite 5300\, 
 Toronto
GEO:43.6473609;-79.38112309999997
X-APPLE-STRUCTURED-LOCATION;VALUE=URI;X-ADDRESS=66 Wellington Street West\,
  Suite 5300\, Toronto\, Ontario\, M5K 1E6\, Canada;X-APPLE-RADIUS=100;X-TI
 TLE=McCarthy Tétrault LLP:geo:43.6473609,-79.38112309999997
END:VEVENT
BEGIN:VTIMEZONE
TZID:America/Toronto
X-LIC-LOCATION:America/Toronto
BEGIN:STANDARD
DTSTART:20181104T010000
TZOFFSETFROM:-0400
TZOFFSETTO:-0500
TZNAME:EST
END:STANDARD
END:VTIMEZONE
END:VCALENDAR